BEGIN:VCALENDAR
VERSION:2.0
PRODID:THE MAD FACTS v1.0//EN
METHOD:PUBLISH
BEGIN:VEVENT
UID:300706952dc490a3d3c704de4e2faca4
LOCATION:Feuerwehrfest Niederwürzbach Tag der offenen Tür
SUMMARY:The Mad Facts concert
DESCRIPTION:The Mad Facts concert

CLASS:PUBLIC
DTSTART:20260606T190000Z
DTEND:20260606T230000Z
DTSTAMP:20260412T212517Z
END:VEVENT
END:VCALENDAR